BEGIN:VCALENDAR
VERSION:2.0
PRODID:-//MIMPLATTFORMEN - ECPv6.15.20//NONSGML v1.0//EN
CALSCALE:GREGORIAN
METHOD:PUBLISH
X-ORIGINAL-URL:https://mimplattformen.se
X-WR-CALDESC:Händelser för MIMPLATTFORMEN
REFRESH-INTERVAL;VALUE=DURATION:PT1H
X-Robots-Tag:noindex
X-PUBLISHED-TTL:PT1H
BEGIN:VTIMEZONE
TZID:Europe/Stockholm
BEGIN:DAYLIGHT
TZOFFSETFROM:+0100
TZOFFSETTO:+0200
TZNAME:CEST
DTSTART:20240331T010000
END:DAYLIGHT
BEGIN:STANDARD
TZOFFSETFROM:+0200
TZOFFSETTO:+0100
TZNAME:CET
DTSTART:20241027T010000
END:STANDARD
BEGIN:DAYLIGHT
TZOFFSETFROM:+0100
TZOFFSETTO:+0200
TZNAME:CEST
DTSTART:20250330T010000
END:DAYLIGHT
BEGIN:STANDARD
TZOFFSETFROM:+0200
TZOFFSETTO:+0100
TZNAME:CET
DTSTART:20251026T010000
END:STANDARD
BEGIN:DAYLIGHT
TZOFFSETFROM:+0100
TZOFFSETTO:+0200
TZNAME:CEST
DTSTART:20260329T010000
END:DAYLIGHT
BEGIN:STANDARD
TZOFFSETFROM:+0200
TZOFFSETTO:+0100
TZNAME:CET
DTSTART:20261025T010000
END:STANDARD
BEGIN:DAYLIGHT
TZOFFSETFROM:+0100
TZOFFSETTO:+0200
TZNAME:CEST
DTSTART:20270328T010000
END:DAYLIGHT
BEGIN:STANDARD
TZOFFSETFROM:+0200
TZOFFSETTO:+0100
TZNAME:CET
DTSTART:20271031T010000
END:STANDARD
END:VTIMEZONE
BEGIN:VEVENT
DTSTART;TZID=Europe/Stockholm:20251222T103000
DTEND;TZID=Europe/Stockholm:20251223T170000
DTSTAMP:20260423T010431
CREATED:20251126T192046Z
LAST-MODIFIED:20260216T092547Z
UID:313-1766399400-1766509200@mimplattformen.se
SUMMARY:MasterClass — Claire Heggen
DESCRIPTION:Utforska rörelsens musikalitet och hur kroppens eget tempo\, dynamik och närvaro kan förvandlas till sceniskt uttryck. I denna tvådagars masterclass leder Claire Heggen\, Musicality & Theatre of Movement\, deltagarna genom en fördjupning i rytm\, tid\, stillhet\, impulser och kroppens dramatiska potential. Heggens metodik utgår från att kroppen är ett instrument med oändliga färgskalor — där musikaliteten i vardagliga rörelser kan öppna för nya berättande möjligheter på scen. \n  \nMusikalitet i vardagsrörelser\n– Arbete med kroppens tyngd\, aktivering och vila\n– Variationer i spänning\, relaxation\, momentum\, acceleration och avbrott\n– Förhållandet till tyngdkraft och rörelseekonomi: att hitta ”rätt kraft för rätt rörelse” Från kropp till scenisk gest\n– Övergången från den ”verkliga kroppen” till den sceniska\, fiktiva kroppen\n– Fördjupning i rörelsens tidskomponenter: duration\, rytm\, tempo\, intensitet\n– Individuella och kollektiva rytmer\, impulser och orsak–verkan-samband\n– Att lyssna till rörelsens dramatiska laddning och uttrycksmässiga möjligheter \nPraktiskt arbete\n– Improvisationer\n– Komposition av kortare rörelse- och gestsekvenser\n– Utforskning av tystnad\, stillhet\, vibrato\, pizzicato\, suspension och andra dynamiska kvaliteter \nKursen riktar sig till alla som arbetar med kropp\, rörelse och sceniskt uttryck: mimare\, dansare\, skådespelare\, cirkusartister\, dockspelare\, musiker.m.fl. \nOm Claire Heggen\nClaire Heggen\, medgrundare av Théâtre du Mouvement\, är en av samtida mimkonsts mest inflytelserika pedagoger och utövare. Sedan 1975 har hon med lekfullhet och precision utforskat relationen mellan kropp\, objekt\, mask och rörelse på scener världen över. År 2025 markerar hennes 50:e år på scenen\, vilket hon firar med den nya soloföreställningen Ma P’tite Dame — en poetisk trilogi om åldrande\, minne och människans föränderliga landskap. \n  \n\n  \nDATUM: 24–25 november\nTID: Kl. 10.00–17.00\nPLATS: Riksteatern Hallunda\, Stockholm \nANSÖKAN: Senast 2 november\nANMÄLAN OCH INFO: Teateralliansen – Masterclass: Musicality and Theatricality of Movement (Länk: https://teateralliansen.se/kurs/masterclass-mime-musicality-and-theatricality-of-movement/) \nARRANGÖRER: I samarbete med Teateralliansen och Riksteatern. Med stöd av Konstnärsnämndens internationella program för teater. \n  \n\n 
URL:https://mimplattformen.se/evenemang/masterclass-claire-heggen/
LOCATION:Riksteatern\, Hallundavägen 30\, Norsborg\, Stockholm\, Sweden
CATEGORIES:MasterClass,Workshop
ATTACH;FMTTYPE=image/avif:https://mimplattformen.se/wp-content/uploads/2025/11/41356c_7820012afa8b42dc95fa1b04c0f98c4emv2.avif
END:VEVENT
BEGIN:VEVENT
DTSTART;TZID=Europe/Stockholm:20260117T090000
DTEND;TZID=Europe/Stockholm:20260118T180000
DTSTAMP:20260423T010431
CREATED:20251218T193851Z
LAST-MODIFIED:20260216T092418Z
UID:606-1768640400-1768759200@mimplattformen.se
SUMMARY:MimBoost Göteborg
DESCRIPTION:Inför vårens arbete behöver vi alla en kick-off\, helt enkelt en MimBoost. Vad passar inte bättre än en hel helg av förkovran i vårt hantverk. Tillsammans jobbar vi på golvet\, umgås\, delar kunskap\, möter nya kollegor och kära återseenden och så kaffe på det! \n\n  \n\n  \nINSPIRATÖRER/LÄRARE: \nMichael Norlind\nFia Adler Sandblad\nIka Nord\nJosephine Gray \nFÖR VEM?\nFör professionella scenkonstnärer med mim/rörelse som hantverk. \nPRIS: 500 kr (i priset ingår lunch båda dagarna\, Pizza på lördagen samt fika) \nANMÄLAN: mimplattformen@gmail.com\nINFO I ANMÄLAN: Namn\, telefonnummer\, matpreferenser och om du är med båda dagarna. \nFRÅGOR? mimplattformen@gmail.com \nI samarbete med Masthuggsteatern \n  \n\n\nSCHEMA\nLÖRDAG \n9-10 Frukost \n10-13 Pass 1 \n13-14 Lunch \n14-17 Pass 2 \n17:30 Samtal följt av pizza och umgänge \n\nSÖNDAG \n8:30-9 Frukost \n9-12 Pass 3 \n12-13 Lunch \n13-16 Pass 4 \nTack för helgen! \n  \n\n​
URL:https://mimplattformen.se/evenemang/mimboost-goteborg/
LOCATION:Masthuggsteatern Göteborg\, Masthuggsterrassen 3\, Göteborg\, Sweden
CATEGORIES:MimBoost,Workshop
ATTACH;FMTTYPE=image/jpeg:https://mimplattformen.se/wp-content/uploads/2025/12/Manga-halsar_mimplattform_11-scaled-e1765838596539.jpg
END:VEVENT
BEGIN:VEVENT
DTSTART;TZID=Europe/Stockholm:20260228T100000
DTEND;TZID=Europe/Stockholm:20260301T160000
DTSTAMP:20260423T010431
CREATED:20260222T223446Z
LAST-MODIFIED:20260222T223446Z
UID:1995-1772272800-1772380800@mimplattformen.se
SUMMARY:Maria Södermark & Kauri Honkakoski
DESCRIPTION:In this workshop we will expand our physical theatre skills by exploring the articulation of movement and its possibilities. We will also explore movement material from KHC’s upcoming  ensemble production. \nThe workshop is taught by visiting pedagogue Maria Södermark from Sweden\, together with Kauri Honkakoski. The Company’s performers will participate in the workshop. \nMaria Södermark (she/her) studied Corporeal Mime at Centro MOVEO in Barcelona and has worked as a performer at MOVEO Company\, among others. In addition to mime\, she has a training background in dance. Maria co-organizes GBG Mime Fest\, a performing arts festival that focuses on work within the expression of mime. \n\n\nTime: 28.2.-1.3. 10-16 (incl. 1 hr lunchbreak)\nPlace: ESKUS (\nLanguage: English (Swedish and Finnish as needed)\n\n\n\nPrice: 120 € (incl. invitation to October preview)\nPackage price: Workshop 1 & Workshop 2 for 220 €\n\n\n\nBook your place by paying the workshop fee at our HOLVI shop:\nhttps://holvi.com/shop/kaurihonkakoskicompany/\nUpon purchase you will be asked for your contact details. You will receive course info by email.\n\n\n\nPlaces are limited and will be filled in the order of registration.\nInfo: kaurihonkakoskicompany@gmail.com\nHIGH TIDE är en del av ett tvåårigt projekt inom fysisk teater\, som genomförs av Kauri Honkakoski Company i samarbete med nordiska partners. I projektet integreras kompaniets kreativa process med utvecklingen av konstnärlig expertis och operativa möjligheter inom konstformen. Projektet äger rum under 2026–2027 i Finland\, Sverige och Danmark och stöds av Nordisk Kulturkontakt.
URL:https://mimplattformen.se/evenemang/maria-sodermark-kauri-honkakoski/
LOCATION:Suvilahti\, Kaasutehtaankatu 1\, Helsinki\, Suvilahti\, Kaasutehtaankatu 1\, Helsinki)\, Finland
CATEGORIES:Workshop
ATTACH;FMTTYPE=image/webp:https://mimplattformen.se/wp-content/uploads/2026/02/Maria-oh-Kauri.webp
END:VEVENT
BEGIN:VEVENT
DTSTART;TZID=Europe/Stockholm:20260504T130000
DTEND;TZID=Europe/Stockholm:20260506T140000
DTSTAMP:20260423T010431
CREATED:20260222T220206Z
LAST-MODIFIED:20260306T122812Z
UID:1969-1777899600-1778076000@mimplattformen.se
SUMMARY:Workshop med Kauri Honkakoski Company (FI)
DESCRIPTION:Come train with Kauri Honkakoski Company and take part in their creative process! \n  \n\nJoin a three days of superb movement training\, creative expression\, and vibrant artistic dialogue. In this workshop we will focus on deepening our technical ability while exploring artistic applications of the technique. Additionally\, you will explore movement material from next ensemble production HIGH TIDE\, gaining a firsthand look at the creative practice. The workshop is part of the Company’s artistic process towards the premiere in October 2026. \nThe workshop is led by Kauri Honkakoski (they/them; hen) with the help of the ensemble: Ines Kakkonen\, Josefin Karlsson\, Liv Meijer Nordgren\, Freia Stenbäck and Valter Sui. \n  \n\n  \nKauri Honkakoski Company is a physical theatre group based in Helsinki. Known for their hypnotically precise productions\, such as Hinterland and The Desk\, their work is built on rich visual metaphors\, meticulous movement scores and atmospheric soundscapes. The artistic roots of Kauri Honkakoski are in Corporeal Mime.\nwww.kaurihonkakoskicompany.com\n \n  \nThis workshop is part of a two-year physical theatre project\, carried out by Kauri Honkakoski \nCompany in collaboration with our Nordic partners. In the project\, the Company’s creative \nprocess is integrated with the development of professional expertise and opportunities within \nthe art form. Taking place over 2026–2027 in Finland\, Sweden and Denmark\, the project is \nsupported by Nordic Culture Point. \n  \n  \n\n  \nFÖR VEM?\nYrkesverksamma \nPLATS: Dansalliansens studio\, Ryssviken 2\, NACKA\nTID: Mån 4/5 kl 13-17\nTis 5/5 kl 10-15\nOns 6/5 kl 10-14 \nANSÖKAN: senas 12 april på TeaterAlliansens hemsida: https://teateralliansen.se/kurs/workshop-with-kauri-honkakoski-company/ \nFRÅGOR? mimplattformen@gmail.com \nI samarbete med TeaterAlliansen och Dansalliansen\nMed stöd av Konstnärsnämndens internationella program för Teater.\n \n  \n\n 
URL:https://mimplattformen.se/evenemang/workshop-med-kauri-honkakoski-company-fi/
LOCATION:Ryssviken 2\, NACKA
CATEGORIES:MasterClass,Workshop
ATTACH;FMTTYPE=image/jpeg:https://mimplattformen.se/wp-content/uploads/2026/02/KHC-photo-by-Laura-Vuoma1.jpg
END:VEVENT
BEGIN:VEVENT
DTSTART;TZID=Europe/Stockholm:20260506T170000
DTEND;TZID=Europe/Stockholm:20260506T210000
DTSTAMP:20260423T010431
CREATED:20260222T221303Z
LAST-MODIFIED:20260306T111357Z
UID:1983-1778086800-1778101200@mimplattformen.se
SUMMARY:Möt konstnären - Kauri Honkakoski Company (FI)
DESCRIPTION:Kauri Honkakoski Company är en prisbelönt fysisk teatergrupp från Helsingfors. Kompaniet är känt för sina utsökt intensiva föreställningar\, såsom Hinterland och The Desk. Verken bygger på rika visuella metaforer\, noggrant utformade rörelsepartitur och atmosfäriska ljudlandskap. Kauri Honkakoski (de/dem) har sina konstnärliga rötter i Corporeal Mime. Med detta djupa\, förkroppsligade språk strävar Kauri efter att ge fysisk form åt de osynliga\, djupa och gemensamma delarna av vår mänsklighet – de delar som undflyr orden. \n  \n\n  \nUnder detta Möt Konstnären-evenemang delar Kauri och ensemblen med sig av insikter i sin konstnärliga process och presenterar kompaniets kommande verk\, HIGH TIDE. Kvällen inkluderar även en kort performancedemonstration ur verket. \nHIGH TIDE är en del av ett tvåårigt projekt inom fysisk teater\, som genomförs av Kauri Honkakoski Company i samarbete med nordiska partners. I projektet integreras kompaniets kreativa process med utvecklingen av konstnärlig expertis och operativa möjligheter inom konstformen. Projektet äger rum under 2026–2027 i Finland\, Sverige och Danmark och stöds av Nordisk Kulturkontakt. \n\n  \nFÖR VEM?\nAlla nyfikna och intresserade är välkomna \nPRIS: Gratis (dryck och pizza finns till försäljning) \nANMÄLAN: mimplattformen@gmail.com senast 5: maj \nFRÅGOR? mimplattformen@gmail.com \nI samarbete med TeaterAlliansen\, Dansalliansen och Teater Tre.\nMed stöd av Konstnärsnämndens internationella program för Teater.\n \n  \n\nSCHEMA FÖR KVÄLLEN\n17.00 Dörrarna öppnas – Pizza och dryck finns att köpa \n18.00-19.30 Möt konstnären – Kauri Honkakoski Company \n19.30-21.00 Eftersnack \n\n  \n/English/ \nMeet the artist – Kauri Honkakoski Company (FI) \nKauri Honkakoski Company is an award-winning physical theatre group from Helsinki. Known for their exquisitely intense shows\, such as Hinterland and The Desk\, the work builds on rich visual metaphors\, meticulous movement scores and atmospheric soundscapes. \nKauri Honkakoski (they/them) has their artistic roots in Corporeal Mime. With this profound\, embodied language Kauri strives to give a physical form to the invisible\, deep and shared parts of our humanity – the parts that escape words. \n  \nDuring this Möt Konstnären event\, Kauri and the ensemble will share insights into their artistic process and the company’s upcoming work\, HIGH TIDE. The evening also includes a short performance demo of the piece. \nHIGH TIDE is part of a two-year physical theatre project\, carried out by Kauri Honkakoski Company in collaboration with Nordic partners. In the project\, the company’s creative process is integrated with the development of artistic expertise and operational opportunities within the art form. Taking place over 2026–2027 in Finland\, Sweden and Denmark\, the project is supported by Nordic Culture Point. \n  \nPRICE: Gratis (dryck och pizza finns till försäljning) \nREGISTER TO: mimplattformen@gmail.com no later than May 5th \nQUSETIONS?: mimplattformen@gmail.com \nIn collaboration with TeaterAlliansen\, Dansalliansen och Teater Tre.\nWith support from: The Swedish Arts Council’s international program- Theatre \n  \nSCHEDUEL FOR THE EVENING\n17.00 Doors open – Pizza and drinks available for purchase \n18.00-19.30 Meet the artist – Kauri Honkakoski Company \n19.30-21.00 After-talk \n  \nFoto: Laura Vuoma
URL:https://mimplattformen.se/evenemang/mot-konstnaren-kauri-honkakoski-company-fi/
LOCATION:Teater Tre\, Rosenlundsgatan 12\, Stockholm\, 118 53\, Stockholm\, Sweden
CATEGORIES:Möt konstnären,Samtal
ATTACH;FMTTYPE=image/jpeg:https://mimplattformen.se/wp-content/uploads/2026/02/Kauri-Honkakoski_photo-Laura-Vuoma1.jpg
END:VEVENT
BEGIN:VEVENT
DTSTART;TZID=Europe/Stockholm:20260528T103000
DTEND;TZID=Europe/Stockholm:20260528T120000
DTSTAMP:20260423T010431
CREATED:20260306T124951Z
LAST-MODIFIED:20260306T124951Z
UID:2099-1779964200-1779969600@mimplattformen.se
SUMMARY:Viewpoints med Anne Jonsson (BIBU)
DESCRIPTION:Kom och träna Viewpoints tillsammans\, lett av Anne Jonsson. \n  \n\nViewpoints är en fysisk improvisationsmetod som utgår från de nio viewpointsen utvecklade av Anne Bogart och Mary Landau\, där du förhåller dig till tempo\, varaktighet\, impuls\, repetition\, arkitektur\, rumsliga relationer\, topografi\, form och gest. Viewpoints är en fysisk metod för att bl.a. skapa en stark grupp\, nytt sceniskt material\, blåsa liv i eller förändra redan befintligt material eller som analysmetod – bland mycket annat. \nArbetet sker barfota eller i mjuka gymnastikskor\, ta även med dig oömma kläder som du kan röra dig i\, penna\, papper och en vattenflaska. \n  \n\n  \nAnne Jonsson\nAnne Jonsson är utbildad mimare och verksam som regissör och koreograf. Sedan 2022 är Anne Teater Tres konstnärliga ledare. Anne är utbildad vid Ecole de mime corporel dramatuque i London. Anne har en masterexamen i regi och dramaturgi för rörelsebaserad scenkonst från SKH och har tränat Viewpoints och Suzuki för Anne Bogart och SITI company. Som frilansande regissör och koreograf har Annes arbeten visats på bland annat Teater Tre\, Backa Teater\, Regionteater Väst\, Unga Klara och Zebradans. \n  \nOm BIBU\nBibu är festivalen som får hela Helsingborg att bubbla av\nTEATER\, DANS\, OPERA OCH CIRKUS-\nFÖRESTÄLLNINGAR FÖR BARN\, UNGA OCH DIG! \nUnder fyra dagar\, den 27 – 30 maj 2026\, kommer det att runt om i Helsingborg att visas ett stort antal föreställningar skapade för barn och unga. Under festivalen bibu kan du ta del av några av de mest spännande föreställningarna från Sverige och utomlands. Det kommer att bli teater\, dans\, cirkus och musikteater för barn och unga mellan 0-20 år. \nFöreställningarna visas runt om i hela Helsingborg; på Stadsteatern\, Konserthuset\, Dunkers\, Tryckeriet\, Nicolaiskolan\, Arenan mm så det gäller att ha koll på var din föreställning visas. \n\n  \nPLATS: Ann Wilsons Dance & Fitness Academy – Helsingborg\nTID: 28: e maj kl 10.30-12.00 \nANMÄLAN: \nFRÅGOR? mimplattformen@gmail.com \n  \nFoto: Kajsa Göransson\n\n 
URL:https://mimplattformen.se/evenemang/viewpoints-med-anne-jonsson-bibu/
LOCATION:Ann Wilson Dance & Fitness Academy\, Drottninggatan 46\, Helsingborg
CATEGORIES:Träning,Workshop
ATTACH;FMTTYPE=image/jpeg:https://mimplattformen.se/wp-content/uploads/2026/03/Kajsa-Goransson2.jpeg
END:VEVENT
BEGIN:VEVENT
DTSTART;TZID=Europe/Stockholm:20260529T103000
DTEND;TZID=Europe/Stockholm:20260529T120000
DTSTAMP:20260423T010431
CREATED:20260306T124112Z
LAST-MODIFIED:20260306T124450Z
UID:1993-1780050600-1780056000@mimplattformen.se
SUMMARY:Starta upp med Py Huss-Wallin (BIBU)
DESCRIPTION:Kom och värm upp tillsammans med Py Huss-Wallin. \n  \n\nHur börjar man arbeta ihop? Hur öppnar man upp sinnet och får en gemensam verktygslåda inför den kommande repperioden? Vi har alla tusen olika metoder\, och det här är min. Det är fragment av övningar jag själv lärt mig av andra\, som satts ihop till något som passat i mitt arbete när jag tagit mig an fysiska verk som kombinerar text och fysiskt berättande. Det är lite häxdans\, lite Birgitta Egerbladh\, lite Jimmy Meurling\, lite Simon Norrthon\, lite Suzanne Osten\, lite.. ja ni hör ju. Vi inspireras av varandra. Kom och bli en grupp för en stund i det gemensamma arbetet. \nVi arbetar barfota i oömma kläder som du kan röra dig och svettas i. Vattenflaska är bra att ha. \n\n  \nPy Huss-Wallin \nArbetar som regissör\, dramatiker och skådespelare och var under 2024-2026 Konstnärlig ledare på Örebro Teater. Py arbetar konsekvent med att skapa scenkonstupplevelser genom kollektiva processer och har ett starkt driv att utmana publiken med nya berättelser och scenuttryck. Under de senaste åren står hon bland annat bakom föreställningarna:: ”The Clash was here” på Örebro Teater\, ”Penelope” på Teater Galeasen\, ”Varför älskar ingen de lesbiska?” på Malmö Stadsteater och ”Who´s afraid of Jenny Wilson?” på Dramaten. \n  \nOm BIBU\nBibu är festivalen som får hela Helsingborg att bubbla av\nTEATER\, DANS\, OPERA OCH CIRKUS-\nFÖRESTÄLLNINGAR FÖR BARN\, UNGA OCH DIG! \nUnder fyra dagar\, den 27 – 30 maj 2026\, kommer det att runt om i Helsingborg att visas ett stort antal föreställningar skapade för barn och unga. Under festivalen bibu kan du ta del av några av de mest spännande föreställningarna från Sverige och utomlands. Det kommer att bli teater\, dans\, cirkus och musikteater för barn och unga mellan 0-20 år. \nFöreställningarna visas runt om i hela Helsingborg; på Stadsteatern\, Konserthuset\, Dunkers\, Tryckeriet\, Nicolaiskolan\, Arenan mm så det gäller att ha koll på var din föreställning visas. \n\n  \nPLATS: Ann Wilsons Dance & Fitness Academy – Helsingborg\nTID: 29: e maj kl 10.30-12.00 \nANMÄLAN: \nFRÅGOR? mimplattformen@gmail.com \nFotograf Klara G\n  \n\n 
URL:https://mimplattformen.se/evenemang/starta-upp-med-py-huss-wallin-bibu/
LOCATION:Ann Wilson Dance & Fitness Academy\, Drottninggatan 46\, Helsingborg
CATEGORIES:Träning,Workshop
ATTACH;FMTTYPE=image/jpeg:https://mimplattformen.se/wp-content/uploads/2026/03/FotoKlaraG.jpg
END:VEVENT
END:VCALENDAR