BEGIN:VCALENDAR
VERSION:2.0
PRODID:-//MIMPLATTFORMEN - ECPv6.15.20//NONSGML v1.0//EN
CALSCALE:GREGORIAN
METHOD:PUBLISH
X-ORIGINAL-URL:https://mimplattformen.se
X-WR-CALDESC:Händelser för MIMPLATTFORMEN
REFRESH-INTERVAL;VALUE=DURATION:PT1H
X-Robots-Tag:noindex
X-PUBLISHED-TTL:PT1H
BEGIN:VTIMEZONE
TZID:Europe/Stockholm
BEGIN:DAYLIGHT
TZOFFSETFROM:+0100
TZOFFSETTO:+0200
TZNAME:CEST
DTSTART:20250330T010000
END:DAYLIGHT
BEGIN:STANDARD
TZOFFSETFROM:+0200
TZOFFSETTO:+0100
TZNAME:CET
DTSTART:20251026T010000
END:STANDARD
BEGIN:DAYLIGHT
TZOFFSETFROM:+0100
TZOFFSETTO:+0200
TZNAME:CEST
DTSTART:20260329T010000
END:DAYLIGHT
BEGIN:STANDARD
TZOFFSETFROM:+0200
TZOFFSETTO:+0100
TZNAME:CET
DTSTART:20261025T010000
END:STANDARD
BEGIN:DAYLIGHT
TZOFFSETFROM:+0100
TZOFFSETTO:+0200
TZNAME:CEST
DTSTART:20270328T010000
END:DAYLIGHT
BEGIN:STANDARD
TZOFFSETFROM:+0200
TZOFFSETTO:+0100
TZNAME:CET
DTSTART:20271031T010000
END:STANDARD
END:VTIMEZONE
BEGIN:VEVENT
DTSTART;TZID=Europe/Stockholm:20260506T170000
DTEND;TZID=Europe/Stockholm:20260506T210000
DTSTAMP:20260420T153031
CREATED:20260222T221303Z
LAST-MODIFIED:20260306T111357Z
UID:1983-1778086800-1778101200@mimplattformen.se
SUMMARY:Möt konstnären - Kauri Honkakoski Company (FI)
DESCRIPTION:Kauri Honkakoski Company är en prisbelönt fysisk teatergrupp från Helsingfors. Kompaniet är känt för sina utsökt intensiva föreställningar\, såsom Hinterland och The Desk. Verken bygger på rika visuella metaforer\, noggrant utformade rörelsepartitur och atmosfäriska ljudlandskap. Kauri Honkakoski (de/dem) har sina konstnärliga rötter i Corporeal Mime. Med detta djupa\, förkroppsligade språk strävar Kauri efter att ge fysisk form åt de osynliga\, djupa och gemensamma delarna av vår mänsklighet – de delar som undflyr orden. \n  \n\n  \nUnder detta Möt Konstnären-evenemang delar Kauri och ensemblen med sig av insikter i sin konstnärliga process och presenterar kompaniets kommande verk\, HIGH TIDE. Kvällen inkluderar även en kort performancedemonstration ur verket. \nHIGH TIDE är en del av ett tvåårigt projekt inom fysisk teater\, som genomförs av Kauri Honkakoski Company i samarbete med nordiska partners. I projektet integreras kompaniets kreativa process med utvecklingen av konstnärlig expertis och operativa möjligheter inom konstformen. Projektet äger rum under 2026–2027 i Finland\, Sverige och Danmark och stöds av Nordisk Kulturkontakt. \n\n  \nFÖR VEM?\nAlla nyfikna och intresserade är välkomna \nPRIS: Gratis (dryck och pizza finns till försäljning) \nANMÄLAN: mimplattformen@gmail.com senast 5: maj \nFRÅGOR? mimplattformen@gmail.com \nI samarbete med TeaterAlliansen\, Dansalliansen och Teater Tre.\nMed stöd av Konstnärsnämndens internationella program för Teater.\n \n  \n\nSCHEMA FÖR KVÄLLEN\n17.00 Dörrarna öppnas – Pizza och dryck finns att köpa \n18.00-19.30 Möt konstnären – Kauri Honkakoski Company \n19.30-21.00 Eftersnack \n\n  \n/English/ \nMeet the artist – Kauri Honkakoski Company (FI) \nKauri Honkakoski Company is an award-winning physical theatre group from Helsinki. Known for their exquisitely intense shows\, such as Hinterland and The Desk\, the work builds on rich visual metaphors\, meticulous movement scores and atmospheric soundscapes. \nKauri Honkakoski (they/them) has their artistic roots in Corporeal Mime. With this profound\, embodied language Kauri strives to give a physical form to the invisible\, deep and shared parts of our humanity – the parts that escape words. \n  \nDuring this Möt Konstnären event\, Kauri and the ensemble will share insights into their artistic process and the company’s upcoming work\, HIGH TIDE. The evening also includes a short performance demo of the piece. \nHIGH TIDE is part of a two-year physical theatre project\, carried out by Kauri Honkakoski Company in collaboration with Nordic partners. In the project\, the company’s creative process is integrated with the development of artistic expertise and operational opportunities within the art form. Taking place over 2026–2027 in Finland\, Sweden and Denmark\, the project is supported by Nordic Culture Point. \n  \nPRICE: Gratis (dryck och pizza finns till försäljning) \nREGISTER TO: mimplattformen@gmail.com no later than May 5th \nQUSETIONS?: mimplattformen@gmail.com \nIn collaboration with TeaterAlliansen\, Dansalliansen och Teater Tre.\nWith support from: The Swedish Arts Council’s international program- Theatre \n  \nSCHEDUEL FOR THE EVENING\n17.00 Doors open – Pizza and drinks available for purchase \n18.00-19.30 Meet the artist – Kauri Honkakoski Company \n19.30-21.00 After-talk \n  \nFoto: Laura Vuoma
URL:https://mimplattformen.se/evenemang/mot-konstnaren-kauri-honkakoski-company-fi/
LOCATION:Teater Tre\, Rosenlundsgatan 12\, Stockholm\, 118 53\, Stockholm\, Sweden
CATEGORIES:Möt konstnären,Samtal
ATTACH;FMTTYPE=image/jpeg:https://mimplattformen.se/wp-content/uploads/2026/02/Kauri-Honkakoski_photo-Laura-Vuoma1.jpg
END:VEVENT
END:VCALENDAR